BEGIN:VCALENDAR
VERSION:2.0
PRODID:-//Foire internationale
CALSCALE:GREGORIAN
X-WR-CALNAME:Foire internationale
BEGIN:VTIMEZONE
TZID:Europe/Berlin
TZURL:http://tzurl.org/zoneinfo-outlook/Europe/Berlin
X-LIC-LOCATION:Europe/Berlin
BEGIN:DAYLIGHT
TZOFFSETFROM:+0100
TZOFFSETTO:+0200
TZNAME:CEST
DTSTART:19700329T020000
RRULE:FREQ=YEARLY;BYMONTH=3;BYDAY=-1SU
END:DAYLIGHT
BEGIN:STANDARD
TZOFFSETFROM:+0100
TZOFFSETTO:+0200
TZNAME:CET
DTSTART:19701025T030000
RRULE:FREQ=YEARLY;BYMONTH=10;BYDAY=-1SU
END:STANDARD
END:VTIMEZONE
BEGIN:VEVENT
DTSTAMP:20220412T132029Z
UID:18552
DTSTART;VALUE=DATE:20260421
DTEND;VALUE=DATE:20260421
SUMMARY:Concert de Vodère
URL;VALUE=URI:https://www.foire-internationale74.com/animation/concert-yoann-dejean/
DESCRIPTION:<p>Après avoir brillé à la capitale et devant la France entière da
LOCATION:Scène
ORGANIZER:Foire_internationale
TRANSP:OPAQUE
BEGIN:VALARM
ACTION:DISPLAY
DESCRIPTION:Reminder for Concert de Vodère
END:VALARM
END:VEVENT
END:VCALENDAR
